BEGIN:VCALENDAR
VERSION:2.0
PRODID:-//Jeune Nation - ECPv5.3.1//NONSGML v1.0//EN
CALSCALE:GREGORIAN
METHOD:PUBLISH
X-WR-CALNAME:Jeune Nation
X-ORIGINAL-URL:https://jeune-nation.com
X-WR-CALDESC:évènements pour Jeune Nation
BEGIN:VTIMEZONE
TZID:Europe/Paris
BEGIN:DAYLIGHT
TZOFFSETFROM:+0100
TZOFFSETTO:+0200
TZNAME:CEST
DTSTART:20150329T010000
END:DAYLIGHT
BEGIN:STANDARD
TZOFFSETFROM:+0200
TZOFFSETTO:+0100
TZNAME:CET
DTSTART:20151025T010000
END:STANDARD
END:VTIMEZONE
BEGIN:VEVENT
DTSTART;TZID=Europe/Paris:20150328T100000
DTEND;TZID=Europe/Paris:20150328T200000
DTSTAMP:20260419T220038
CREATED:20150223T094206Z
LAST-MODIFIED:20150319T204412Z
UID:17036-1427536800-1427572800@jeune-nation.com
SUMMARY:3e Fête des Patriotes à Lyon
DESCRIPTION:Grande journée nationaliste à Lyon !\nColloque sur le thème : JE SUIS NATIONALISTE \nNombreux stands : mouvements\, associations\, délégations étrangères\, journaux\, livres\, artisanat\, vêtements\, musique… \nBar et restauration sur place. \nDe nombreux intervenants prendront la parole\, dont Yvan Benedetti (directeur de Jeune nation)\, Alexandre Gabriac (fondateur des Jeunesses nationalistes)\, Daniel Conversano (polémiste)\, Johan Livernette (écrivain contre-révolutionnaire)\, François Ferrier (président des Amis de Pierre Sidos)\, Pierre-Marie Bonneau (avocat du CLAN)\, etc. \nBanquet avec animation musicale (20€). \nLe groupe de musique nationaliste Northmen Impakt donnera un concert le soir. \nPlus d’informations à venir ! \n 
URL:https://jeune-nation.com/evenement/3e-fete-des-patriotes
LOCATION:Lyon\, Lyon\, France
CATEGORIES:Conférence,Fête,Repas militant
ATTACH;FMTTYPE=image/jpeg:https://jeune-nation.com/wp-content/uploads/2015/02/fdp2015-visuel-gal-final.jpg
END:VEVENT
END:VCALENDAR