BEGIN:VCALENDAR
VERSION:2.0
PRODID:-//Jeune Nation - ECPv5.3.1//NONSGML v1.0//EN
CALSCALE:GREGORIAN
METHOD:PUBLISH
X-WR-CALNAME:Jeune Nation
X-ORIGINAL-URL:https://jeune-nation.com
X-WR-CALDESC:évènements pour Jeune Nation
BEGIN:VTIMEZONE
TZID:Europe/Paris
BEGIN:DAYLIGHT
TZOFFSETFROM:+0100
TZOFFSETTO:+0200
TZNAME:CEST
DTSTART:20150329T010000
END:DAYLIGHT
BEGIN:STANDARD
TZOFFSETFROM:+0200
TZOFFSETTO:+0100
TZNAME:CET
DTSTART:20151025T010000
END:STANDARD
END:VTIMEZONE
BEGIN:VEVENT
DTSTART;TZID=Europe/Paris:20150220T203000
DTEND;TZID=Europe/Paris:20150220T223000
DTSTAMP:20260419T180405
CREATED:20150210T160848Z
LAST-MODIFIED:20150216T194208Z
UID:16017-1424464200-1424471400@jeune-nation.com
SUMMARY:Chambéry : conférence-dédicace sur "Piss Christ Fora"
DESCRIPTION:
URL:https://jeune-nation.com/evenement/chambery-conference-dedicace-sur-piss-christ-fora
LOCATION:Chambery\, Chambery\, Savoie\, 73000\, France
CATEGORIES:Conférence
ATTACH;FMTTYPE=image/jpeg:https://jeune-nation.com/wp-content/uploads/2015/02/piss-christ-fora-chambery-20022015.jpg
ORGANIZER;CN="Savoie%20Nationaliste":MAILTO:savoie.nationaliste@gmail.com
END:VEVENT
END:VCALENDAR