BEGIN:VCALENDAR
VERSION:2.0
PRODID:-//Jeune Nation - ECPv5.3.1//NONSGML v1.0//EN
CALSCALE:GREGORIAN
METHOD:PUBLISH
X-WR-CALNAME:Jeune Nation
X-ORIGINAL-URL:https://jeune-nation.com
X-WR-CALDESC:évènements pour Jeune Nation
BEGIN:VTIMEZONE
TZID:Europe/Paris
BEGIN:DAYLIGHT
TZOFFSETFROM:+0100
TZOFFSETTO:+0200
TZNAME:CEST
DTSTART:20150329T010000
END:DAYLIGHT
BEGIN:STANDARD
TZOFFSETFROM:+0200
TZOFFSETTO:+0100
TZNAME:CET
DTSTART:20151025T010000
END:STANDARD
END:VTIMEZONE
BEGIN:VEVENT
DTSTART;TZID=Europe/Paris:20150321T140000
DTEND;TZID=Europe/Paris:20150321T180000
DTSTAMP:20260420T192832
CREATED:20150208T141800Z
LAST-MODIFIED:20150319T203615Z
UID:15834-1426946400-1426960800@jeune-nation.com
SUMMARY:Lyon : Marche pour la Vie
DESCRIPTION:Participation des Caryatides\, mouvement nationaliste féminin ! \nDépart à 14h30 de la place Saint Jean.
URL:https://jeune-nation.com/evenement/lyon-marche-pour-la-vie
LOCATION:Lyon\, Lyon\, France
CATEGORIES:Manifestation
ATTACH;FMTTYPE=image/png:https://jeune-nation.com/wp-content/uploads/2015/02/mplv-lyon-2015.png
ORGANIZER;CN="Marche%20pour%20la%20Vie":MAILTO:contact@marchepourlavie.fr
END:VEVENT
END:VCALENDAR