BEGIN:VCALENDAR
VERSION:2.0
PRODID:-//Jeune Nation - ECPv5.3.1//NONSGML v1.0//EN
CALSCALE:GREGORIAN
METHOD:PUBLISH
X-WR-CALNAME:Jeune Nation
X-ORIGINAL-URL:https://jeune-nation.com
X-WR-CALDESC:évènements pour Jeune Nation
BEGIN:VTIMEZONE
TZID:Europe/Paris
BEGIN:DAYLIGHT
TZOFFSETFROM:+0100
TZOFFSETTO:+0200
TZNAME:CEST
DTSTART:20150329T010000
END:DAYLIGHT
BEGIN:STANDARD
TZOFFSETFROM:+0200
TZOFFSETTO:+0100
TZNAME:CET
DTSTART:20151025T010000
END:STANDARD
END:VTIMEZONE
BEGIN:VEVENT
DTSTART;TZID=Europe/Paris:20150607T140000
DTEND;TZID=Europe/Paris:20150607T180000
DTSTAMP:20260424T034010
CREATED:20150514T110425Z
LAST-MODIFIED:20150514T110425Z
UID:19714-1433685600-1433700000@jeune-nation.com
SUMMARY:Manifestation de Sauvons Calais
DESCRIPTION:
URL:https://jeune-nation.com/evenement/manifestation-de-sauvons-calais
LOCATION:Place d’Armes de Calais\, Place d'Armes\, Calais\, 62100\, France
CATEGORIES:Manifestation
ATTACH;FMTTYPE=image/jpeg:https://jeune-nation.com/wp-content/uploads/2015/05/sauvons-calais-manif-07062015.jpg
END:VEVENT
END:VCALENDAR