BEGIN:VCALENDAR
VERSION:2.0
PRODID:-//Jeune Nation - ECPv5.3.1//NONSGML v1.0//EN
CALSCALE:GREGORIAN
METHOD:PUBLISH
X-WR-CALNAME:Jeune Nation
X-ORIGINAL-URL:https://jeune-nation.com
X-WR-CALDESC:évènements pour Jeune Nation
BEGIN:VTIMEZONE
TZID:Europe/Paris
BEGIN:DAYLIGHT
TZOFFSETFROM:+0100
TZOFFSETTO:+0200
TZNAME:CEST
DTSTART:20160327T010000
END:DAYLIGHT
BEGIN:STANDARD
TZOFFSETFROM:+0200
TZOFFSETTO:+0100
TZNAME:CET
DTSTART:20161030T010000
END:STANDARD
END:VTIMEZONE
BEGIN:VEVENT
DTSTART;VALUE=DATE:20160326
DTEND;VALUE=DATE:20160327
DTSTAMP:20260420T085552
CREATED:20160303T222857Z
LAST-MODIFIED:20160303T222857Z
UID:26882-1458950400-1459036799@jeune-nation.com
SUMMARY:Marignane et Hyères : Hommage aux victimes de la rue d'Isly
DESCRIPTION:+ 26 mars à Marignane (stèle des Fusillés\, cimetière Saint-Laurent Imbert\, 11h). Hommage aux victimes de la rue d’Isly. Rens. au 06-61-44-34-12. \n+ 26 mars à Hyères (cimetière de la Ritorte). Hommage aux victimes de la rue d’Isly. Rens. au 06-11-28-55-90.
URL:https://jeune-nation.com/evenement/marignane-et-hyeres-hommage-aux-victimes-de-la-rue-disly
LOCATION:Marignane et Hyères\, France
CATEGORIES:Commémoration
ATTACH;FMTTYPE=image/png:https://jeune-nation.com/wp-content/uploads/2016/03/adimad.png
END:VEVENT
END:VCALENDAR