BEGIN:VCALENDAR
VERSION:2.0
PRODID:-//Jeune Nation - ECPv5.3.1//NONSGML v1.0//EN
CALSCALE:GREGORIAN
METHOD:PUBLISH
X-WR-CALNAME:Jeune Nation
X-ORIGINAL-URL:https://jeune-nation.com
X-WR-CALDESC:évènements pour Jeune Nation
BEGIN:VTIMEZONE
TZID:Europe/Paris
BEGIN:DAYLIGHT
TZOFFSETFROM:+0100
TZOFFSETTO:+0200
TZNAME:CEST
DTSTART:20160327T010000
END:DAYLIGHT
BEGIN:STANDARD
TZOFFSETFROM:+0200
TZOFFSETTO:+0100
TZNAME:CET
DTSTART:20161030T010000
END:STANDARD
END:VTIMEZONE
BEGIN:VEVENT
DTSTART;TZID=Europe/Paris:20160318T100000
DTEND;TZID=Europe/Paris:20160318T120000
DTSTAMP:20260421T015153
CREATED:20160303T220800Z
LAST-MODIFIED:20160303T220800Z
UID:26880-1458295200-1458302400@jeune-nation.com
SUMMARY:Montauban : Messe pour tous les martyrs de l’Algérie française
DESCRIPTION:+ 18 mars à Montauban (église Saint-Jacques\, 10h). Messe pour tous les martyrs de l’Algérie française.
URL:https://jeune-nation.com/evenement/montauban-messe-pour-tous-les-martyrs-de-lalgerie-francaise
LOCATION:Eglise Saint Jacques de Montauban\, Montauban\, France
CATEGORIES:Commémoration
ATTACH;FMTTYPE=image/png:https://jeune-nation.com/wp-content/uploads/2016/03/adimad.png
END:VEVENT
END:VCALENDAR