BEGIN:VCALENDAR
VERSION:2.0
PRODID:-//Jeune Nation - ECPv5.3.1//NONSGML v1.0//EN
CALSCALE:GREGORIAN
METHOD:PUBLISH
X-WR-CALNAME:Jeune Nation
X-ORIGINAL-URL:https://jeune-nation.com
X-WR-CALDESC:évènements pour Jeune Nation
BEGIN:VTIMEZONE
TZID:Europe/Paris
BEGIN:DAYLIGHT
TZOFFSETFROM:+0100
TZOFFSETTO:+0200
TZNAME:CEST
DTSTART:20150329T010000
END:DAYLIGHT
BEGIN:STANDARD
TZOFFSETFROM:+0200
TZOFFSETTO:+0100
TZNAME:CET
DTSTART:20151025T010000
END:STANDARD
END:VTIMEZONE
BEGIN:VEVENT
DTSTART;TZID=Europe/Paris:20150221T080000
DTEND;TZID=Europe/Paris:20150221T170000
DTSTAMP:20260419T180501
CREATED:20150218T232342Z
LAST-MODIFIED:20150218T232342Z
UID:16767-1424505600-1424538000@jeune-nation.com
SUMMARY:Pays d'Auge : réunion de la Ligue Nationaliste
DESCRIPTION:Samedi 21 février dans le pays d’Auge\, réunion sous l’égide de Guy Guerrin où l’on débattra sur le thème conduit par M. Mauger : « Réunification : nous\, Normandie occidentale\, nos atouts à faire valoir ». \nContact : 02-31-79-62-04.
URL:https://jeune-nation.com/evenement/pays-dauge-reunion-de-la-ligue-nationaliste
LOCATION:Pays d’Auge\, France
CATEGORIES:Réunion militante
END:VEVENT
END:VCALENDAR