BEGIN:VCALENDAR
VERSION:2.0
PRODID:-//Jeune Nation - ECPv5.3.1//NONSGML v1.0//EN
CALSCALE:GREGORIAN
METHOD:PUBLISH
X-WR-CALNAME:Jeune Nation
X-ORIGINAL-URL:https://jeune-nation.com
X-WR-CALDESC:évènements pour Jeune Nation
BEGIN:VTIMEZONE
TZID:Europe/Paris
BEGIN:DAYLIGHT
TZOFFSETFROM:+0100
TZOFFSETTO:+0200
TZNAME:CEST
DTSTART:20160327T010000
END:DAYLIGHT
BEGIN:STANDARD
TZOFFSETFROM:+0200
TZOFFSETTO:+0100
TZNAME:CET
DTSTART:20161030T010000
END:STANDARD
END:VTIMEZONE
BEGIN:VEVENT
DTSTART;TZID=Europe/Paris:20160410T160000
DTEND;TZID=Europe/Paris:20160410T200000
DTSTAMP:20260425T181503
CREATED:20160326T212256Z
LAST-MODIFIED:20160326T212256Z
UID:27643-1460304000-1460318400@jeune-nation.com
SUMMARY:Perpignan : Réunion publique du PNF Roussillon
DESCRIPTION:Thème : Présentation du programme de reconquête du Parti Nationaliste Français ! \nLe dimanche 10 avril aura lieu notre réunion mensuelle. Nous aborderons les actualités de notre section\, les projets d’avenir\, nous commencerons les modules de formation et détailleront le programme du PNF ! Ce sera\, comme chacun de nos rendez-vous\, un agréable moment de militantisme au cours du quel nous pourrons échanger et partager un verre de l’amitié. Pensez à réserver ! \nContact : pnf.perpignan@gmail.com
URL:https://jeune-nation.com/evenement/perpignan-reunion-publique-du-pnf-roussillon
LOCATION:Perpignan\, Perpignan\, 66000\, France
CATEGORIES:Réunion militante
ATTACH;FMTTYPE=image/jpeg:https://jeune-nation.com/wp-content/uploads/2016/03/perpignan-pnf-10042016.jpg
ORGANIZER;CN="PNF%20Roussillon":MAILTO:pnf.perpignan@gmail.com
END:VEVENT
END:VCALENDAR