BEGIN:VCALENDAR
VERSION:2.0
PRODID:-//Jeune Nation - ECPv5.3.1//NONSGML v1.0//EN
CALSCALE:GREGORIAN
METHOD:PUBLISH
X-WR-CALNAME:Jeune Nation
X-ORIGINAL-URL:https://jeune-nation.com
X-WR-CALDESC:évènements pour Jeune Nation
BEGIN:VTIMEZONE
TZID:Europe/Paris
BEGIN:DAYLIGHT
TZOFFSETFROM:+0100
TZOFFSETTO:+0200
TZNAME:CEST
DTSTART:20150329T010000
END:DAYLIGHT
BEGIN:STANDARD
TZOFFSETFROM:+0200
TZOFFSETTO:+0100
TZNAME:CET
DTSTART:20151025T010000
END:STANDARD
END:VTIMEZONE
BEGIN:VEVENT
DTSTART;VALUE=DATE:20150321
DTEND;VALUE=DATE:20150322
DTSTAMP:20260419T221601
CREATED:20150304T220049Z
LAST-MODIFIED:20150319T203340Z
UID:17466-1426896000-1426982399@jeune-nation.com
SUMMARY:White Man March 2015
DESCRIPTION:
URL:https://jeune-nation.com/evenement/white-man-march-2015
LOCATION:Newcastle\, Newcastle\, United Kingdom
CATEGORIES:Manifestation
ATTACH;FMTTYPE=image/jpeg:https://jeune-nation.com/wp-content/uploads/2015/03/white-man-march-2015-newcastle2.jpg
END:VEVENT
END:VCALENDAR